BEGIN:VCALENDAR
VERSION:2.0
PRODID:-//Landoll - ECPv6.15.20//NONSGML v1.0//EN
CALSCALE:GREGORIAN
METHOD:PUBLISH
X-ORIGINAL-URL:https://landoll.com
X-WR-CALDESC:Events for Landoll
REFRESH-INTERVAL;VALUE=DURATION:PT1H
X-Robots-Tag:noindex
X-PUBLISHED-TTL:PT1H
BEGIN:VTIMEZONE
TZID:America/Chicago
BEGIN:DAYLIGHT
TZOFFSETFROM:-0600
TZOFFSETTO:-0500
TZNAME:CDT
DTSTART:20250309T080000
END:DAYLIGHT
BEGIN:STANDARD
TZOFFSETFROM:-0500
TZOFFSETTO:-0600
TZNAME:CST
DTSTART:20251102T070000
END:STANDARD
BEGIN:DAYLIGHT
TZOFFSETFROM:-0600
TZOFFSETTO:-0500
TZNAME:CDT
DTSTART:20260308T080000
END:DAYLIGHT
BEGIN:STANDARD
TZOFFSETFROM:-0500
TZOFFSETTO:-0600
TZNAME:CST
DTSTART:20261101T070000
END:STANDARD
BEGIN:DAYLIGHT
TZOFFSETFROM:-0600
TZOFFSETTO:-0500
TZNAME:CDT
DTSTART:20270314T080000
END:DAYLIGHT
BEGIN:STANDARD
TZOFFSETFROM:-0500
TZOFFSETTO:-0600
TZNAME:CST
DTSTART:20271107T070000
END:STANDARD
END:VTIMEZONE
BEGIN:VEVENT
DTSTART;VALUE=DATE:20260106
DTEND;VALUE=DATE:20260108
DTSTAMP:20260425T115940
CREATED:20251023T201325Z
LAST-MODIFIED:20251023T202137Z
UID:248555-1767657600-1767830399@landoll.com
SUMMARY:Mid-Tex Farm\, Ranch & Garden Show
DESCRIPTION:
URL:https://landoll.com/show/mid-tex-farm-ranch-garden-show-2/
LOCATION:Extraco Events Center\, 4601 Bosque Blvd\, Waco\, TX\, 76710\, United States
CATEGORIES:Farm Equipment
END:VEVENT
BEGIN:VEVENT
DTSTART;VALUE=DATE:20260109
DTEND;VALUE=DATE:20260111
DTSTAMP:20260425T115940
CREATED:20251023T202137Z
LAST-MODIFIED:20251023T202137Z
UID:248590-1767916800-1768089599@landoll.com
SUMMARY:KNID Agrifest
DESCRIPTION:
URL:https://landoll.com/show/knid-agrifest-3/
LOCATION:Chisholm Trail Expo Center\, 111 W Purdue Ave\, Enid\, OK\, 73701\, United States
CATEGORIES:Farm Equipment
END:VEVENT
BEGIN:VEVENT
DTSTART;VALUE=DATE:20260120
DTEND;VALUE=DATE:20260123
DTSTAMP:20260425T115940
CREATED:20251023T202137Z
LAST-MODIFIED:20251023T202137Z
UID:248591-1768867200-1769126399@landoll.com
SUMMARY:Eastern Idaho Ag Expo
DESCRIPTION:
URL:https://landoll.com/show/eastern-idaho-ag-expo-4/
LOCATION:Holt Arena\, 550 Memorial Drive\, Pocatello\, ID\, 83201\, United States
CATEGORIES:Farm Equipment
END:VEVENT
BEGIN:VEVENT
DTSTART;VALUE=DATE:20260121
DTEND;VALUE=DATE:20260123
DTSTAMP:20260425T115940
CREATED:20251023T202137Z
LAST-MODIFIED:20251023T202137Z
UID:248592-1768953600-1769126399@landoll.com
SUMMARY:Midwest Ag Expo
DESCRIPTION:
URL:https://landoll.com/show/midwest-ag-expo-4/
LOCATION:Gordyville USA\, 2205 CR 3000 N\, Gifford\, IL\, 61847\, United States
CATEGORIES:Farm Equipment
END:VEVENT
BEGIN:VEVENT
DTSTART;VALUE=DATE:20260127
DTEND;VALUE=DATE:20260130
DTSTAMP:20260425T115940
CREATED:20251023T202138Z
LAST-MODIFIED:20251023T202138Z
UID:248593-1769472000-1769731199@landoll.com
SUMMARY:Colorado Farm Show
DESCRIPTION:
URL:https://landoll.com/show/colorado-farm-show-4/
LOCATION:Island Grove Event Center\, 421 N 15th Ave\, Greeley\, CO\, 80631\, United States
CATEGORIES:Farm Equipment
END:VEVENT
BEGIN:VEVENT
DTSTART;VALUE=DATE:20260128
DTEND;VALUE=DATE:20260131
DTSTAMP:20260425T115940
CREATED:20251023T202143Z
LAST-MODIFIED:20251023T202143Z
UID:248594-1769558400-1769817599@landoll.com
SUMMARY:Sioux Falls Farm Show
DESCRIPTION:
URL:https://landoll.com/show/sioux-falls-farm-show-4/
LOCATION:Denny Sanford Premier Center\, 1201 N. West Ave\, Sioux Falls\, SD\, 57104\, United States
CATEGORIES:Farm Equipment
END:VEVENT
END:VCALENDAR